BEGIN:VCALENDAR
VERSION:2.0
PRODID:-//Pacific Northwest Ski Association - ECPv6.15.20//NONSGML v1.0//EN
CALSCALE:GREGORIAN
METHOD:PUBLISH
X-ORIGINAL-URL:https://pnwdivision.org
X-WR-CALDESC:Events for Pacific Northwest Ski Association
REFRESH-INTERVAL;VALUE=DURATION:PT1H
X-Robots-Tag:noindex
X-PUBLISHED-TTL:PT1H
BEGIN:VTIMEZONE
TZID:America/Los_Angeles
BEGIN:DAYLIGHT
TZOFFSETFROM:-0800
TZOFFSETTO:-0700
TZNAME:PDT
DTSTART:20240310T100000
END:DAYLIGHT
BEGIN:STANDARD
TZOFFSETFROM:-0700
TZOFFSETTO:-0800
TZNAME:PST
DTSTART:20241103T090000
END:STANDARD
BEGIN:DAYLIGHT
TZOFFSETFROM:-0800
TZOFFSETTO:-0700
TZNAME:PDT
DTSTART:20250309T100000
END:DAYLIGHT
BEGIN:STANDARD
TZOFFSETFROM:-0700
TZOFFSETTO:-0800
TZNAME:PST
DTSTART:20251102T090000
END:STANDARD
BEGIN:DAYLIGHT
TZOFFSETFROM:-0800
TZOFFSETTO:-0700
TZNAME:PDT
DTSTART:20260308T100000
END:DAYLIGHT
BEGIN:STANDARD
TZOFFSETFROM:-0700
TZOFFSETTO:-0800
TZNAME:PST
DTSTART:20261101T090000
END:STANDARD
BEGIN:DAYLIGHT
TZOFFSETFROM:-0800
TZOFFSETTO:-0700
TZNAME:PDT
DTSTART:20270314T100000
END:DAYLIGHT
BEGIN:STANDARD
TZOFFSETFROM:-0700
TZOFFSETTO:-0800
TZNAME:PST
DTSTART:20271107T090000
END:STANDARD
END:VTIMEZONE
BEGIN:VEVENT
DTSTART;VALUE=DATE:20260228
DTEND;VALUE=DATE:20260302
DTSTAMP:20260421T033558
CREATED:20250730T172243Z
LAST-MODIFIED:20251219T194714Z
UID:10000328-1772236800-1772409599@pnwdivision.org
SUMMARY:2026 Gary Peck Memorial EEYSL #2
DESCRIPTION:Mt. Spokane Ski & Snowboard Park\n2 SL Races – Men and Women\n(YSL Event – USSS Membership Required)\n  \n♦Race Announcement – will be updated as more info is available\n♦Waiver – Signed by athletes and coaches in ASR portal prior to 1st Team Captains Meeting.  Coaches\, please provide your cell # on the release where prompted.\n♦Registration:  $??? per day   Opens Wed. Jan. 28 – Deadline Wed. Feb. 25 11:59pm (automatic $25 late fee thereafter)\n♦Team Captains Meeting Link:\n⇒Technical Delegate:  Bill Brooks\n⇒Lift Tickets:  $??? per day\, $??? Multi day purchased on site\n⇒Lodging:\nMaribeau Park Hotel  Spokane Valley\, WA\n\n⇒Schedule:\nFri. Feb. 27 – Team Captains Meeting ???\nSat. Feb. 28 – M / W SL\nSat. Feb. 28 – Team Captains Meeting  ??pm\nSun. Mar. 1 – M / W SL
URL:https://pnwdivision.org/event/2026-gary-peck-memorial-eeysl-2/
LOCATION:Mt Spokane Ski & Snowboard Park\, 29500 N Mt Spokane Park Dr\, Mead\, WA\, 99021\, United States
CATEGORIES:Alpine,Buddy Werner / YSL
END:VEVENT
BEGIN:VEVENT
DTSTART;VALUE=DATE:20260131
DTEND;VALUE=DATE:20260202
DTSTAMP:20260421T033558
CREATED:20250820T195112Z
LAST-MODIFIED:20260128T225133Z
UID:10000347-1769817600-1769990399@pnwdivision.org
SUMMARY:2026 NWCSC Qualifier #2-Moved to Silver Mtn.\, ID
DESCRIPTION:Silver Mtn.\, ID\n(PNW U14 and older athletes allowed to race.  Fill out the NWCSC Intent to Compete Form and return to the PNW office 10 days prior to event.  Event entry fee for PNW athletes – $25\, paid at the race site)\n  \n♦NWCSC Intent to Compete Form\n♦Race Announcement\n♦Registration:  PNW athletes wishing to race must fill out the Intent to Compete Form and return to PNW office the week prior to the event.\n⇒Technical Delegate:  Jim Jopson\n⇒Lift Tickets:  $??? day\n\n⇒Schedule:\nFriday Jan. 30 – Team Captains Meeting ???PM MST  ♦Zoom Link\nSaturday Jan. 31 – M / W GS\nSunday Feb. 1 – M / W GS
URL:https://pnwdivision.org/event/2026-nwcsc-qualifier-2/
LOCATION:Mt Spokane Ski & Snowboard Park\, 29500 N Mt Spokane Park Dr\, Mead\, WA\, 99021\, United States
CATEGORIES:Alpine,College
END:VEVENT
BEGIN:VEVENT
DTSTART;VALUE=DATE:20250222
DTEND;VALUE=DATE:20250224
DTSTAMP:20260421T033558
CREATED:20240830T175129Z
LAST-MODIFIED:20250102T195802Z
UID:10000237-1740182400-1740355199@pnwdivision.org
SUMMARY:2025 Gary Peck Memorial
DESCRIPTION:Mt Spokane\, WA\nSL / SL – Men and Women\n(YSL Event)\n  \n♦Race Announcement\n♦Registration:  $55 per day includes lift ticket  $20 per day for Mt. Spokane Season Pass Holders   Deadline Feb. 20\n♦Team Captains Meeting Link – 5pm Feb. 21\n⇒Technical Delegate:  Derek Crick\n⇒Lift Tickets:  Included in entry fee\n⇒Lodging:   Mirabeau Park Hotel\n1100 N Sullivan Rd\, Spokane Valley\, WA 99037\nDiscounted athlete rate of $119/night (inclusive of breakfast opening at 5:30 AM). Call (509) 924-9000 to book.\n⇒Schedule:\nFeb. 21 – Team Captains Meeting 5pm\nFeb. 22 – M / W SL   Team Captains Meeting 5pm  Same link as above.\nFeb. 23 –  M / W SL
URL:https://pnwdivision.org/event/2025-gary-peck-memorial/
LOCATION:Mt Spokane Ski & Snowboard Park\, 29500 N Mt Spokane Park Dr\, Mead\, WA\, 99021\, United States
CATEGORIES:Alpine,Buddy Werner / YSL
END:VEVENT
BEGIN:VEVENT
DTSTART;VALUE=DATE:20250125
DTEND;VALUE=DATE:20250127
DTSTAMP:20260421T033558
CREATED:20240905T195833Z
LAST-MODIFIED:20241025T190415Z
UID:10000241-1737763200-1737935999@pnwdivision.org
SUMMARY:2025 NWCSC Qualifier #2
DESCRIPTION:Mt. Spokane\, WA\n(PNW U14 and older athletes allowed to race.  Fill out the NWCSC Intent to Compete Form and return to the PNW office 10 days prior to event.  Event entry fee for PNW athletes – $25\, paid at the race site)\n  \n♦NWCSC Intent to Compete Form\n♦Race Announcement\n♦Registration:  PNW athletes wishing to race must fill out the Intent to Compete Form and return to PNW office the week prior to the event.\n⇒Technical Delegate:  Jim Jopson\n⇒Lift Tickets:  $??? day\n⇒Schedule:\nFriday Jan. 24 – Team Captains Meeting ???PM PST  ♦Zoom Link\nSaturday Jan. 25 – M / W GS\nSunday Jan. 26 – M / W GS
URL:https://pnwdivision.org/event/2025-nwcsc-qualifier-2/
LOCATION:Mt Spokane Ski & Snowboard Park\, 29500 N Mt Spokane Park Dr\, Mead\, WA\, 99021\, United States
CATEGORIES:Alpine,College
END:VEVENT
BEGIN:VEVENT
DTSTART;VALUE=DATE:20250119
DTEND;VALUE=DATE:20250121
DTSTAMP:20260421T033558
CREATED:20240826T220431Z
LAST-MODIFIED:20250106T193754Z
UID:10000222-1737244800-1737417599@pnwdivision.org
SUMMARY:2025 U14 Qualifier #1
DESCRIPTION:Mt. Spokane\, WA\nSL / GS\n(U14 only allowed to enter)\n  \n♦Race Announcement\n♦Registration:  $50 per race  1/14/2024 $8 Late Fee goes into effect.\n1/15 11:59pm – Registration Closes\, no further entries allowed.\nCoaches and Athletes must register.\n♦Team Captains Meeting: Jan. 18 – 5pm  Zoom Meeting\nMeeting ID: 860 2267 4337\nPasscode: Dxt6qt\n⇒Technical Delegate:  Steve Lowe\n⇒Lift Tickets:  $35 Day  Elite Pass Honored\nPlease see Race Announcement for information on purchasing tickets / picking up Elite Pass tickets\n⇒Lodging:  Mirabeau Park Hotel\n1100 N Sullivan Rd.\, Spokane Valley\, WA  99037\n$119/night   509-924-9000  Mention Race at Mt. Spokane\n\nSchedule:\nSun. Jan. 19 – M / W GS\nMon. Jan. 20 –  M / W SL
URL:https://pnwdivision.org/event/2025-u14-qualifier-1/
LOCATION:Mt Spokane Ski & Snowboard Park\, 29500 N Mt Spokane Park Dr\, Mead\, WA\, 99021\, United States
CATEGORIES:Alpine,U14 Series & Championship
END:VEVENT
END:VCALENDAR