BEGIN:VCALENDAR
VERSION:2.0
PRODID:-//Pacific Northwest Ski Association - ECPv6.15.20//NONSGML v1.0//EN
CALSCALE:GREGORIAN
METHOD:PUBLISH
X-WR-CALNAME:Pacific Northwest Ski Association
X-ORIGINAL-URL:https://pnwdivision.org
X-WR-CALDESC:Events for Pacific Northwest Ski Association
REFRESH-INTERVAL;VALUE=DURATION:PT1H
X-Robots-Tag:noindex
X-PUBLISHED-TTL:PT1H
BEGIN:VTIMEZONE
TZID:America/Los_Angeles
BEGIN:DAYLIGHT
TZOFFSETFROM:-0800
TZOFFSETTO:-0700
TZNAME:PDT
DTSTART:20250309T100000
END:DAYLIGHT
BEGIN:STANDARD
TZOFFSETFROM:-0700
TZOFFSETTO:-0800
TZNAME:PST
DTSTART:20251102T090000
END:STANDARD
BEGIN:DAYLIGHT
TZOFFSETFROM:-0800
TZOFFSETTO:-0700
TZNAME:PDT
DTSTART:20260308T100000
END:DAYLIGHT
BEGIN:STANDARD
TZOFFSETFROM:-0700
TZOFFSETTO:-0800
TZNAME:PST
DTSTART:20261101T090000
END:STANDARD
BEGIN:DAYLIGHT
TZOFFSETFROM:-0800
TZOFFSETTO:-0700
TZNAME:PDT
DTSTART:20270314T100000
END:DAYLIGHT
BEGIN:STANDARD
TZOFFSETFROM:-0700
TZOFFSETTO:-0800
TZNAME:PST
DTSTART:20271107T090000
END:STANDARD
END:VTIMEZONE
BEGIN:VEVENT
DTSTART;VALUE=DATE:20260425
DTEND;VALUE=DATE:20260427
DTSTAMP:20260421T041727
CREATED:20250728T215837Z
LAST-MODIFIED:20260414T185225Z
UID:10000325-1777075200-1777247999@pnwdivision.org
SUMMARY:2026 Golden Rose - CANCELLED
DESCRIPTION:CANCELLED\n4 SL\nTimberline Resort\, OR\n(Open Race – U14 & older allowed to enter)\nThe field size will be limited to 120 per gender. Priority is given to host clubs (MHRTA and MRT) athletes then the cutoff will be determined by SL points. Out of division racers must have below 75 points (women) and 50 points (men) and must work with their divisional managers for eligibility. We will publish a competitors list to live-timing.com after registration is closed.\n  \n“Right now we have the go ahead for running the Golden Rose on The Magic Mile on April 25-26.\n\nBetween now and then\, John and Karen\, and Timberline are going to keep an eye on the snow and on the weather.\n\nOur recommendations to everyone – Don’t book any lodging that is not refundable.  April 25-26 is a quiet weekend in Govy and there will be plenty of lodging available.  We recommend that you wait.  \n\nWe will make a FINAL GO or NO GO call on Friday\, April 17 (one week before the scheduled races).  Registration will open on Saturday April 18 if we are a go.  At close of registration (Wednesday April 22) we will accept a total of 120 girls and 120 boys in points order.\n\nMore information and final determination on Friday\, 4/17.\n\nJohn Rust / Karen Lundgren’\n  \n♦Race Announcement\n♦Registration:  $58 per race\, $232 for series.  Deadline ??? 11:59pm   No Late Entries Accepted  \n♦Coach Registration:  Coaches must register by ??? to receive agenda and WhatsApp link.\n⇒Eligibility:  All 2025-26 USSS licensed competitors\, U14 and older are eligible to compete in the Golden Rose (born 2013 and earlier). Senior racers\, ages 21 and older\, must have less than 120 USSS SL points to enter.\n⇒Field Size Limitations:\nThe Golden Rose will be limited to 120 women and 120 men. If necessary\, the field will be cut on ???. 1st Year U14’s will be the first cut\, then by SL points on the current USSS points list. Per PNW Division Rules\, host clubs (MHRTA & MRT) will be excluded from all field cuts.\nATTENTION ALL 1st Year U14 Athletes & Parents:\nThere is a field size limit and some years we have not allowed 1st Year U14’s to race due to the large field size.  Please do not book accommodations until after the list is posted to live timing on ???.\n⇒Out of Division Entries:  Out-of-division athletes will be considered on a case by case basis IF they meet the following point cutoffs: Slalom points under 75 for women and under 50 for men. Out-of-Division athletes must first be cleared through their Divisional Office and then must register on-line by the entry deadline.\n⇒Team Captains Meeting:  6:30 PM Friday 4/24  Online Zoom Link to Follow\nATTN COACHES: You must register at adminskiracing.com by April ???. The agenda with links for the Whatsapp group will be emailed to you.\n⇒Technical Delegate:\n⇒Lift Tickets:\nPNW Elite Pass\, Fusion Pass\, and Timberline winter pass will be accepted at the Golden Rose. Timberline Spring Pass is an option you may wish to look into. A standard racer ticket is $??? per day and your bib must be shown at time of purchase.\n⇒Schedule:\nApril 24 – 6:30pm Coaches in person or by link mailed to you.\nApril 25 –  M 2 SL / W 2 SL\nApril 26 – M 2 SL / W 2 SL
URL:https://pnwdivision.org/event/2026-golden-rose/
LOCATION:Timberline Resort\, 27500 E Timberline Road\, Timberline Lodge\, OR\, 97028\, United States
CATEGORIES:Alpine,Evergreen Cup
END:VEVENT
END:VCALENDAR