BEGIN:VCALENDAR
VERSION:2.0
PRODID:-//Pacific Northwest Ski Association - ECPv6.15.20//NONSGML v1.0//EN
CALSCALE:GREGORIAN
METHOD:PUBLISH
X-ORIGINAL-URL:https://pnwdivision.org
X-WR-CALDESC:Events for Pacific Northwest Ski Association
REFRESH-INTERVAL;VALUE=DURATION:PT1H
X-Robots-Tag:noindex
X-PUBLISHED-TTL:PT1H
BEGIN:VTIMEZONE
TZID:America/Los_Angeles
BEGIN:DAYLIGHT
TZOFFSETFROM:-0800
TZOFFSETTO:-0700
TZNAME:PDT
DTSTART:20230312T100000
END:DAYLIGHT
BEGIN:STANDARD
TZOFFSETFROM:-0700
TZOFFSETTO:-0800
TZNAME:PST
DTSTART:20231105T090000
END:STANDARD
BEGIN:DAYLIGHT
TZOFFSETFROM:-0800
TZOFFSETTO:-0700
TZNAME:PDT
DTSTART:20240310T100000
END:DAYLIGHT
BEGIN:STANDARD
TZOFFSETFROM:-0700
TZOFFSETTO:-0800
TZNAME:PST
DTSTART:20241103T090000
END:STANDARD
BEGIN:DAYLIGHT
TZOFFSETFROM:-0800
TZOFFSETTO:-0700
TZNAME:PDT
DTSTART:20250309T100000
END:DAYLIGHT
BEGIN:STANDARD
TZOFFSETFROM:-0700
TZOFFSETTO:-0800
TZNAME:PST
DTSTART:20251102T090000
END:STANDARD
END:VTIMEZONE
BEGIN:VEVENT
DTSTART;VALUE=DATE:20241212
DTEND;VALUE=DATE:20241216
DTSTAMP:20260420T082744
CREATED:20240905T201745Z
LAST-MODIFIED:20241126T183254Z
UID:10000244-1733961600-1734307199@pnwdivision.org
SUMMARY:2024 DEVO FIS #1
DESCRIPTION: 2 SL / 2 GS\nBig Sky\, MT\n(FIS age athletes only – Selection for the DEVO Series by PNW Division.\nWestern Region Automatics are part of the PNW quota.\n    See below for athlete list. See ♦here for rules governing the Western Region Elite and Devo Series.  FIS approved helmets and equipment required.  Competitors must have a valid FIS license to attend.)\nQuota:  23 Women / 17 Men\n  \n♦Race Announcement – updated 11/26 with lift ticket link\n♦Registration: – $60 per race   Look up event under Northern Division\nDeadline Dec. 9.  Coaches must register as well.\n⇒Technical Delegate:  Mike Ginsberg\n⇒Lift Tickets:  ♦Purchase Link\n$69 + tax/per day per person\n♦Lodging:\nSchedule:\n12/11 – 6pm Mtn. Time Team Captains Meeting ♦LINK \nMeeting ID: 856 9494 3568\nPasscode: 934234\n12/12 – M / W GS\n12/13 – M / W GS\n12/14 – M / W SL\n12/15- M / W SL\nSelection:  \n﻿ \n 
URL:https://pnwdivision.org/event/2024-devo-fis-1/
LOCATION:Big Sky Resort\, 50 Big Sky Resort Road\, Big Sky\, MT\, 59716
CATEGORIES:Alpine,FIS Races
END:VEVENT
END:VCALENDAR