BEGIN:VCALENDAR
VERSION:2.0
PRODID:-//Pacific Northwest Ski Association - ECPv6.15.20//NONSGML v1.0//EN
CALSCALE:GREGORIAN
METHOD:PUBLISH
X-ORIGINAL-URL:http://pnwdivision.org
X-WR-CALDESC:Events for Pacific Northwest Ski Association
REFRESH-INTERVAL;VALUE=DURATION:PT1H
X-Robots-Tag:noindex
X-PUBLISHED-TTL:PT1H
BEGIN:VTIMEZONE
TZID:America/Los_Angeles
BEGIN:DAYLIGHT
TZOFFSETFROM:-0800
TZOFFSETTO:-0700
TZNAME:PDT
DTSTART:20230312T100000
END:DAYLIGHT
BEGIN:STANDARD
TZOFFSETFROM:-0700
TZOFFSETTO:-0800
TZNAME:PST
DTSTART:20231105T090000
END:STANDARD
BEGIN:DAYLIGHT
TZOFFSETFROM:-0800
TZOFFSETTO:-0700
TZNAME:PDT
DTSTART:20240310T100000
END:DAYLIGHT
BEGIN:STANDARD
TZOFFSETFROM:-0700
TZOFFSETTO:-0800
TZNAME:PST
DTSTART:20241103T090000
END:STANDARD
BEGIN:DAYLIGHT
TZOFFSETFROM:-0800
TZOFFSETTO:-0700
TZNAME:PDT
DTSTART:20250309T100000
END:DAYLIGHT
BEGIN:STANDARD
TZOFFSETFROM:-0700
TZOFFSETTO:-0800
TZNAME:PST
DTSTART:20251102T090000
END:STANDARD
BEGIN:DAYLIGHT
TZOFFSETFROM:-0800
TZOFFSETTO:-0700
TZNAME:PDT
DTSTART:20260308T100000
END:DAYLIGHT
BEGIN:STANDARD
TZOFFSETFROM:-0700
TZOFFSETTO:-0800
TZNAME:PST
DTSTART:20261101T090000
END:STANDARD
BEGIN:DAYLIGHT
TZOFFSETFROM:-0800
TZOFFSETTO:-0700
TZNAME:PDT
DTSTART:20270314T100000
END:DAYLIGHT
BEGIN:STANDARD
TZOFFSETFROM:-0700
TZOFFSETTO:-0800
TZNAME:PST
DTSTART:20271107T090000
END:STANDARD
END:VTIMEZONE
BEGIN:VEVENT
DTSTART;VALUE=DATE:20260228
DTEND;VALUE=DATE:20260302
DTSTAMP:20260423T041459
CREATED:20251203T203818Z
LAST-MODIFIED:20260218T170008Z
UID:10000380-1772236800-1772409599@pnwdivision.org
SUMMARY:2026 PNW Cup #2-updated 2/18/2026
DESCRIPTION:Kongsberger Ski Club\, Snoqualmie Pass\, WA\nA CURRENT USSS Cross Country Competitor license is not required but highly encouraged.\nCurrently a Maybe – Will know status later this week (2/18 – 20)\n♦Race Announcement\n♦Kongsbergers Website\n♦Registration:  Opens ???.  Early registration closes ??? 11:59pm.  Registration closes  ??? at 11:59pm\n⇒Fine for non-returned Bib – $???\n⇒Feb. 28 – Freestyle Sprint\n⇒Mar. 1 – 10K Mass Start Classic + Super Spring
URL:http://pnwdivision.org/event/2026-pnw-cup-2/
LOCATION:Kongsberger Lodge\, Cabin Creek Rd\, Snoqualmie Pass\, WA
CATEGORIES:Nordic,PNW Cup
END:VEVENT
BEGIN:VEVENT
DTSTART;VALUE=DATE:20241026
DTEND;VALUE=DATE:20241028
DTSTAMP:20260423T041459
CREATED:20240814T204415Z
LAST-MODIFIED:20240814T204511Z
UID:10000214-1729900800-1730073599@pnwdivision.org
SUMMARY:2024 NCC Fall Meeting
DESCRIPTION:2024 Fall NCC Meeting\nKongsberger Lodge\, Snoqualmie Pass\, WA\nDetails to come
URL:http://pnwdivision.org/event/2024-ncc-fall-meeting/
LOCATION:Kongsberger Lodge\, Cabin Creek Rd\, Snoqualmie Pass\, WA
CATEGORIES:Meetings,Nordic
ORGANIZER;CN="PNW":MAILTO:pnw@pnwdivision.org
END:VEVENT
END:VCALENDAR