BEGIN:VCALENDAR
VERSION:2.0
PRODID:-//Pacific Northwest Ski Association - ECPv6.15.20//NONSGML v1.0//EN
CALSCALE:GREGORIAN
METHOD:PUBLISH
X-WR-CALNAME:Pacific Northwest Ski Association
X-ORIGINAL-URL:http://pnwdivision.org
X-WR-CALDESC:Events for Pacific Northwest Ski Association
REFRESH-INTERVAL;VALUE=DURATION:PT1H
X-Robots-Tag:noindex
X-PUBLISHED-TTL:PT1H
BEGIN:VTIMEZONE
TZID:America/Los_Angeles
BEGIN:DAYLIGHT
TZOFFSETFROM:-0800
TZOFFSETTO:-0700
TZNAME:PDT
DTSTART:20230312T100000
END:DAYLIGHT
BEGIN:STANDARD
TZOFFSETFROM:-0700
TZOFFSETTO:-0800
TZNAME:PST
DTSTART:20231105T090000
END:STANDARD
BEGIN:DAYLIGHT
TZOFFSETFROM:-0800
TZOFFSETTO:-0700
TZNAME:PDT
DTSTART:20240310T100000
END:DAYLIGHT
BEGIN:STANDARD
TZOFFSETFROM:-0700
TZOFFSETTO:-0800
TZNAME:PST
DTSTART:20241103T090000
END:STANDARD
BEGIN:DAYLIGHT
TZOFFSETFROM:-0800
TZOFFSETTO:-0700
TZNAME:PDT
DTSTART:20250309T100000
END:DAYLIGHT
BEGIN:STANDARD
TZOFFSETFROM:-0700
TZOFFSETTO:-0800
TZNAME:PST
DTSTART:20251102T090000
END:STANDARD
BEGIN:DAYLIGHT
TZOFFSETFROM:-0800
TZOFFSETTO:-0700
TZNAME:PDT
DTSTART:20260308T100000
END:DAYLIGHT
BEGIN:STANDARD
TZOFFSETFROM:-0700
TZOFFSETTO:-0800
TZNAME:PST
DTSTART:20261101T090000
END:STANDARD
END:VTIMEZONE
BEGIN:VEVENT
DTSTART;VALUE=DATE:20250621
DTEND;VALUE=DATE:20250623
DTSTAMP:20260420T051040
CREATED:20240911T225701Z
LAST-MODIFIED:20250527T213651Z
UID:10000261-1750464000-1750636799@pnwdivision.org
SUMMARY:2025 Wy'East Cup
DESCRIPTION:GS / SL\nTimberline Resort\, OR\n(Licensed Masters allowed to race)\n  \n♦Race Announcement\n♦Registration:   $75 each Master’s race  $75 each Family Fun Race\nDirect registration questions to:\nErik Otterholt: eotterholt@mac.com  or mobile: 503.577.1570\n⇒Banquet:  $100  Pay via registration\n⇒Waiver:  Signed during registration process\n♦Team Captains Meeting\n♦Lift Tickets:  $105 per day\nTimberline Summer Season Pass – $1400.00\n♦Timberline Summer Passes/Tickets link:\n⇒Technical Delegate:  Jerry McMurtry\n⇒Schedule:\nFriday\, June 20  REGISTRATION CHECK-IN\n 2:30pm-5:30pm Registration Check-in (Libations &amp; Snacks)\nLocation: 30596 E Darr Rd. Government Camp OR 97028 (Willy and\nKerry Godfrey Scroggins cabin – on the Govy Loop\, across the street\nfrom the Best Western/ Mt Hood Brew Pub.)\n  \nSaturday\, June 21 – GS RACE\n 6-6:55am: Late Registration Check-in on the 3 rd Floor – Wy’East Lodge\n 6:30 am Skier Services Tickets office open\n 7:00 am Lifts Open\n 7:30 am Inspection\n 8:30 am 1st Run GS\n 11:00am 2nd Run GS\nEVENING BANQUET\n Location: Wy’East Lodge 2 nd Floor\n 4:30 pm Social Get Together (Libations\, Silent Auction)\n 6:00 pm Banquet &amp; Awards\n  \nSunday\, June 22 – SL RACE\n 6-6:55am: Late Registration Check-in – 3 rd Floor – Wy’East Lodge.\n 6:30 am Skier Services Ticket office opens\n 7:00 am Lifts Open\n 7:30 am Inspection\n 8:30 am 1st Run SL\n 11:00-ish 2nd Run SL\n 1:30 pm Awards – immediately following close of race\, once race\nadministration processing is complete\nLocation: Wy’East Lodge
URL:http://pnwdivision.org/event/2025-wyeast-cup/
LOCATION:Timberline Resort\, 27500 E Timberline Road\, Timberline Lodge\, OR\, 97028\, United States
CATEGORIES:Alpine,Masters
END:VEVENT
BEGIN:VEVENT
DTSTART;VALUE=DATE:20240621
DTEND;VALUE=DATE:20240624
DTSTAMP:20260420T051040
CREATED:20240508T221423Z
LAST-MODIFIED:20240516T174901Z
UID:10000208-1718928000-1719187199@pnwdivision.org
SUMMARY:2024 Wy'East Cup
DESCRIPTION:Timberline\, OR\nMasters SL / GS\nFamily Fun Race Non-Scored SL / GS\nDetails to Come\n  \n♦SAVE THE DATE – Info Sheet\n♦Race Announcement\n♦Registration for Masters Race – $75 per race.  Banquet:  $70  Direct questions Erik Otterholt:  eotterholt@mac.com or 503-577-1570\n♦Registration Family Fun Race –   $75 per race.  Banquet:  $70\nDirect registration questions to:  Jesse Scroggins: dhracer@me.com or 541-806-5515\n⇒Lift Tickets:  Timberline Summer Day Ticket $105  Summer pass $1400\n♦Timberline Summer Passes/Tickets Link:  \n⇒TD:  Karl Wardrop\nAll Proceeds Support the Pacific Northwest Ski Educational Foundation\n\n⇒Friday June 21:  Registration 2:30 – 5:30pm  30596 E Darr Rd  Government Camp\, OR\n⇒Saturday June 22:  GS Race\n⇒Saturday June 22:  Banquet  Wy’East Lodge 2nd Floor  4:30 pm Social   6:00pm Dinner & Awards\n⇒Sunday June 23:  SL Race
URL:http://pnwdivision.org/event/2024-wyeast-cup/
LOCATION:Timberline Resort\, 27500 E Timberline Road\, Timberline Lodge\, OR\, 97028\, United States
CATEGORIES:Alpine,Masters
END:VEVENT
END:VCALENDAR